
      
      
      
BEGIN:VCALENDAR
VERSION:2.0
PRODID:-//Nyíregyházi Sportcentrum - ECPv4.9.1.1//NONSGML v1.0//EN
CALSCALE:GREGORIAN
METHOD:PUBLISH
X-WR-CALNAME:Nyíregyházi Sportcentrum
X-ORIGINAL-URL:https://nyiregyhazisc.hu
X-WR-CALDESC:Events for Nyíregyházi Sportcentrum
BEGIN:VEVENT
DTSTART;TZID=UTC+1:20220924T160000
DTEND;TZID=UTC+1:20220924T180000
DTSTAMP:20260423T011508
CREATED:20220922T112842Z
LAST-MODIFIED:20220922T112842Z
UID:16425-1664035200-1664042400@nyiregyhazisc.hu
SUMMARY:Zuglói Sasok/A - Nyíregyházi Sportcentrum A - Nyíregyháza - fiú kadett kosárlabda mérkőzés
DESCRIPTION:
URL:https://nyiregyhazisc.hu/esemeny/zugloi-sasok-a-nyiregyhazi-sportcentrum-a-nyiregyhaza-fiu-kadett-kosarlabda-merkozes/
CATEGORIES:Sportesemény
END:VEVENT
END:VCALENDAR