
      
      
      
BEGIN:VCALENDAR
VERSION:2.0
PRODID:-//Nyíregyházi Sportcentrum - ECPv4.9.1.1//NONSGML v1.0//EN
CALSCALE:GREGORIAN
METHOD:PUBLISH
X-WR-CALNAME:Nyíregyházi Sportcentrum
X-ORIGINAL-URL:https://nyiregyhazisc.hu
X-WR-CALDESC:Events for Nyíregyházi Sportcentrum
BEGIN:VEVENT
DTSTART;TZID=UTC+1:20211105T080000
DTEND;TZID=UTC+1:20211106T170000
DTSTAMP:20260423T175513
CREATED:20211105T134339Z
LAST-MODIFIED:20211105T134339Z
UID:13595-1636099200-1636218000@nyiregyhazisc.hu
SUMMARY:XXVIII. Testvérvárosok Kupa Nemzetközi Úszóverseny
DESCRIPTION:Pénteken és szombaton Miskolcon a Kemény Dénes Uszodában rendezik meg a már nagy hagyományokkal rendelkező XXVIII. Testvárosok Kupa Nemzetközi Versenyt. A kétnapos úszóviadalon 30 Nyíregyházi Sportcentrumos úszó áll majd a rajtkőre.\nElőzetes rajtlista: https://swimmer.hu/mdownload/rajtlista/3784.pdf\n#nyiregyhazisportcentrum #úszás #testvévárosokupamiskolc\n
URL:https://nyiregyhazisc.hu/esemeny/xxviii-testvervarosok-kupa-nemzetkozi-uszoverseny/
END:VEVENT
END:VCALENDAR