
      
      
      
BEGIN:VCALENDAR
VERSION:2.0
PRODID:-//Nyíregyházi Sportcentrum - ECPv4.9.1.1//NONSGML v1.0//EN
CALSCALE:GREGORIAN
METHOD:PUBLISH
X-WR-CALNAME:Nyíregyházi Sportcentrum
X-ORIGINAL-URL:https://nyiregyhazisc.hu
X-WR-CALDESC:Events for Nyíregyházi Sportcentrum
BEGIN:VEVENT
DTSTART;VALUE=DATE:20220726
DTEND;VALUE=DATE:20220727
DTSTAMP:20260423T043726
CREATED:20220725T111952Z
LAST-MODIFIED:20220725T111952Z
UID:16183-1658793600-1658879999@nyiregyhazisc.hu
SUMMARY:XIV. Németh Pál Emléknap - Last Chance to Munich atlétikai ligaverseny
DESCRIPTION:
URL:https://nyiregyhazisc.hu/esemeny/xiv-nemeth-pal-emleknap-last-chance-to-munich-atletikai-ligaverseny/
END:VEVENT
END:VCALENDAR