
      
      
      
BEGIN:VCALENDAR
VERSION:2.0
PRODID:-//Nyíregyházi Sportcentrum - ECPv4.9.1.1//NONSGML v1.0//EN
CALSCALE:GREGORIAN
METHOD:PUBLISH
X-WR-CALNAME:Nyíregyházi Sportcentrum
X-ORIGINAL-URL:https://nyiregyhazisc.hu
X-WR-CALDESC:Events for Nyíregyházi Sportcentrum
BEGIN:VEVENT
DTSTART;TZID=UTC+1:20220714T080000
DTEND;TZID=UTC+1:20220717T170000
DTSTAMP:20260423T060909
CREATED:20220510T083257Z
LAST-MODIFIED:20220511T071347Z
UID:15319-1657785600-1658077200@nyiregyhazisc.hu
SUMMARY:X. JUBILEUMI STRANDFOCI FESZTIVÁL
DESCRIPTION: \n
URL:https://nyiregyhazisc.hu/esemeny/x-jubileumi-strandfoci-fesztival/
CATEGORIES:Egyéb
ATTACH;FMTTYPE=image/jpeg:https://nyiregyhazisc.hu/wp-content/uploads/2022/05/bloggif_627a30818e197.jpeg
END:VEVENT
END:VCALENDAR