
      
      
      
BEGIN:VCALENDAR
VERSION:2.0
PRODID:-//Nyíregyházi Sportcentrum - ECPv4.9.1.1//NONSGML v1.0//EN
CALSCALE:GREGORIAN
METHOD:PUBLISH
X-WR-CALNAME:Nyíregyházi Sportcentrum
X-ORIGINAL-URL:https://nyiregyhazisc.hu
X-WR-CALDESC:Events for Nyíregyházi Sportcentrum
BEGIN:VEVENT
DTSTART;TZID=UTC+1:20220928T180000
DTEND;TZID=UTC+1:20220928T200000
DTSTAMP:20260422T220242
CREATED:20220920T123059Z
LAST-MODIFIED:20220920T123059Z
UID:16358-1664388000-1664395200@nyiregyhazisc.hu
SUMMARY:VS Dunakeszi - Nyíregyházi Sportcentrum FU 20 II.osztály fiú kézilabda mérkőzés
DESCRIPTION:
URL:https://nyiregyhazisc.hu/esemeny/vs-dunakeszi-nyiregyhazi-sportcentrum-fu-20-ii-osztaly-fiu-kezilabda-merkozes/
CATEGORIES:Sportesemény
END:VEVENT
END:VCALENDAR