
      
      
      
BEGIN:VCALENDAR
VERSION:2.0
PRODID:-//Nyíregyházi Sportcentrum - ECPv4.9.1.1//NONSGML v1.0//EN
CALSCALE:GREGORIAN
METHOD:PUBLISH
X-WR-CALNAME:Nyíregyházi Sportcentrum
X-ORIGINAL-URL:https://nyiregyhazisc.hu
X-WR-CALDESC:Events for Nyíregyházi Sportcentrum
BEGIN:VEVENT
DTSTART;TZID=UTC+1:20230920T090000
DTEND;TZID=UTC+1:20230920T140000
DTSTAMP:20260422T065158
CREATED:20230907T081216Z
LAST-MODIFIED:20230907T081216Z
UID:20045-1695200400-1695218400@nyiregyhazisc.hu
SUMMARY:VIII. Szépkorúak Sporttalálkozója -  Helyszín: Atlétikai Centrum
DESCRIPTION:
URL:https://nyiregyhazisc.hu/esemeny/viii-szepkoruak-sporttalalkozoja-helyszin-atletikai-centrum/
CATEGORIES:Sportesemény
ATTACH;FMTTYPE=image/jpeg:https://nyiregyhazisc.hu/wp-content/uploads/2023/09/szépkorú.jpg
END:VEVENT
END:VCALENDAR