
      
      
      
BEGIN:VCALENDAR
VERSION:2.0
PRODID:-//Nyíregyházi Sportcentrum - ECPv4.9.1.1//NONSGML v1.0//EN
CALSCALE:GREGORIAN
METHOD:PUBLISH
X-WR-CALNAME:Nyíregyházi Sportcentrum
X-ORIGINAL-URL:https://nyiregyhazisc.hu
X-WR-CALDESC:Events for Nyíregyházi Sportcentrum
BEGIN:VEVENT
DTSTART;TZID=UTC+1:20231002T164500
DTEND;TZID=UTC+1:20231006T174500
DTSTAMP:20260422T040302
CREATED:20231003T082012Z
LAST-MODIFIED:20231003T082012Z
UID:20470-1696265100-1696614300@nyiregyhazisc.hu
SUMMARY:Úszásoktatás gyerekeknek - Eissmann Városi Uszoda
DESCRIPTION: \n
URL:https://nyiregyhazisc.hu/esemeny/uszasoktatas-gyerekeknek-eissmann-varosi-uszoda/
CATEGORIES:Sportesemény
END:VEVENT
END:VCALENDAR