
      
      
      
BEGIN:VCALENDAR
VERSION:2.0
PRODID:-//Nyíregyházi Sportcentrum - ECPv4.9.1.1//NONSGML v1.0//EN
CALSCALE:GREGORIAN
METHOD:PUBLISH
X-WR-CALNAME:Nyíregyházi Sportcentrum
X-ORIGINAL-URL:https://nyiregyhazisc.hu
X-WR-CALDESC:Events for Nyíregyházi Sportcentrum
BEGIN:VEVENT
DTSTART;TZID=UTC+1:20231002T161500
DTEND;TZID=UTC+1:20231006T174500
DTSTAMP:20260422T040624
CREATED:20231003T082353Z
LAST-MODIFIED:20231003T082353Z
UID:20472-1696263300-1696614300@nyiregyhazisc.hu
SUMMARY:Úszásoktatás gyerekeknek - Arany János Gimnázium\, Általános Iskola és Kollégium
DESCRIPTION: \n
URL:https://nyiregyhazisc.hu/esemeny/uszasoktatas-gyerekeknek-arany-janos-gimnazium-altalanos-iskola-es-kollegium/
CATEGORIES:Sportesemény
ATTACH;FMTTYPE=image/jpeg:https://nyiregyhazisc.hu/wp-content/uploads/2023/10/úszás-foglalkozás-és-edzés-arany.jpg
END:VEVENT
END:VCALENDAR