
      
      
      
BEGIN:VCALENDAR
VERSION:2.0
PRODID:-//Nyíregyházi Sportcentrum - ECPv4.9.1.1//NONSGML v1.0//EN
CALSCALE:GREGORIAN
METHOD:PUBLISH
X-WR-CALNAME:Nyíregyházi Sportcentrum
X-ORIGINAL-URL:https://nyiregyhazisc.hu
X-WR-CALDESC:Events for Nyíregyházi Sportcentrum
BEGIN:VEVENT
DTSTART;TZID=UTC+1:20230925T164500
DTEND;TZID=UTC+1:20230929T174500
DTSTAMP:20260422T040049
CREATED:20230908T135013Z
LAST-MODIFIED:20230908T135013Z
UID:20094-1695660300-1696009500@nyiregyhazisc.hu
SUMMARY:Úszásoktatás gyerekeknek
DESCRIPTION:
URL:https://nyiregyhazisc.hu/esemeny/uszasoktatas-gyerekeknek-3/
CATEGORIES:Sportesemény
ATTACH;FMTTYPE=image/jpeg:https://nyiregyhazisc.hu/wp-content/uploads/2023/09/sportcentrum-úszás.jpg
END:VEVENT
END:VCALENDAR