
      
      
      
BEGIN:VCALENDAR
VERSION:2.0
PRODID:-//Nyíregyházi Sportcentrum - ECPv4.9.1.1//NONSGML v1.0//EN
CALSCALE:GREGORIAN
METHOD:PUBLISH
X-WR-CALNAME:Nyíregyházi Sportcentrum
X-ORIGINAL-URL:https://nyiregyhazisc.hu
X-WR-CALDESC:Events for Nyíregyházi Sportcentrum
BEGIN:VEVENT
DTSTART;TZID=UTC+1:20230918T164500
DTEND;TZID=UTC+1:20230922T174500
DTSTAMP:20260422T053121
CREATED:20230908T134308Z
LAST-MODIFIED:20230908T134432Z
UID:20092-1695055500-1695404700@nyiregyhazisc.hu
SUMMARY:Úszásoktatás gyerekeknek
DESCRIPTION:
URL:https://nyiregyhazisc.hu/esemeny/uszasoktatas-gyerekeknek-2/
CATEGORIES:Sportesemény
ATTACH;FMTTYPE=image/jpeg:https://nyiregyhazisc.hu/wp-content/uploads/2023/09/sportcentrum-úszás.jpg
END:VEVENT
END:VCALENDAR