
      
      
      
BEGIN:VCALENDAR
VERSION:2.0
PRODID:-//Nyíregyházi Sportcentrum - ECPv4.9.1.1//NONSGML v1.0//EN
CALSCALE:GREGORIAN
METHOD:PUBLISH
X-WR-CALNAME:Nyíregyházi Sportcentrum
X-ORIGINAL-URL:https://nyiregyhazisc.hu
X-WR-CALDESC:Events for Nyíregyházi Sportcentrum
BEGIN:VEVENT
DTSTART;TZID=UTC+1:20230416T112000
DTEND;TZID=UTC+1:20230416T130000
DTSTAMP:20260422T162203
CREATED:20230417T083346Z
LAST-MODIFIED:20230417T083346Z
UID:18716-1681644000-1681650000@nyiregyhazisc.hu
SUMMARY:U5 fiú kézilabda bajnoki mérkőzés: Enjoy Robotics Fehérgyarmati USE - Nyíregyházi Sportcentrum
DESCRIPTION:
URL:https://nyiregyhazisc.hu/esemeny/u5-fiu-kezilabda-bajnoki-merkozes-enjoy-robotics-fehergyarmati-use-nyiregyhazi-sportcentrum/
LOCATION:Kisvárda
END:VEVENT
END:VCALENDAR