
      
      
      
BEGIN:VCALENDAR
VERSION:2.0
PRODID:-//Nyíregyházi Sportcentrum - ECPv4.9.1.1//NONSGML v1.0//EN
CALSCALE:GREGORIAN
METHOD:PUBLISH
X-WR-CALNAME:Nyíregyházi Sportcentrum
X-ORIGINAL-URL:https://nyiregyhazisc.hu
X-WR-CALDESC:Events for Nyíregyházi Sportcentrum
BEGIN:VEVENT
DTSTART;VALUE=DATE:20190919
DTEND;VALUE=DATE:20190923
DTSTAMP:20260424T101807
CREATED:20190904T081508Z
LAST-MODIFIED:20190904T083446Z
UID:8682-1568851200-1569196799@nyiregyhazisc.hu
SUMMARY:U20 EYBL Nemzetközi Kosárlabda Torna
DESCRIPTION:		\n	\n	\n		\n			A rendezvény programja: \nSzeptember 19. \n15.30  Hübner – Nyíregyháza Blue Sharks – NBA Academy India \n17.30 SBK Junior Levice – CS U-BT CLUJ – NAPOCA \n19.30 BC Kolin – Szolnoki Sportcentrum \nSzeptember 20. \n9.00  Skuru Basket – Independents \n11.00 NBA Academy India – Basket Rimini Crabs \n13.00  CS U-BT CLUJ-NAPOCA – BC Kolin \n15.00 Hübner – Nyíregyháza Blue Sharks – SBK Junior Levice \n17.00 Independents – Szolnoki Sportcentrum \n19.00  Basket Rimini Crabs – Skuru Basket \nSzeptember 21. \n9.30 Skuru Basket – BC Kolin \n11.30 NBA Academy India – SBK Junior Levice \n13.30 Szolnoki Sportcentrum –CS U-BT CLUJ-NAPOCA \n15.30 Basket Rimini Crabs – Independents \n17.30 Skuru Basket –  Hübner – Nyíregyháza Blue Sharks \n19.30 CS U-BT CLUJ – NAPOCA –  NBA Academy India \nSzeptember 22. \n9.30  Independents – BC Kolin \n11.30 SBK Junior Levice – Basket Rimini Crabs \n13.30 Szolnoki Sportcentrum –  Hübner Nyíregyháza Blue Sharks \n\n		\n	\n		\n	\n
URL:https://nyiregyhazisc.hu/esemeny/u20-eybl-nemzetkozi-kosarlabda-torna/
LOCATION:Continental Arena\, Géza u. 8-16\, Nyíregyháza\, Szabolcs-Szatmár-Bereg megye\, 4400\, Magyarország
CATEGORIES:Sportesemény
ATTACH;FMTTYPE=image/png:https://nyiregyhazisc.hu/wp-content/uploads/2019/09/EYBL-logo-1.png
END:VEVENT
END:VCALENDAR