
      
      
      
BEGIN:VCALENDAR
VERSION:2.0
PRODID:-//Nyíregyházi Sportcentrum - ECPv4.9.1.1//NONSGML v1.0//EN
CALSCALE:GREGORIAN
METHOD:PUBLISH
X-WR-CALNAME:Nyíregyházi Sportcentrum
X-ORIGINAL-URL:https://nyiregyhazisc.hu
X-WR-CALDESC:Events for Nyíregyházi Sportcentrum
BEGIN:VEVENT
DTSTART;TZID=UTC+1:20211016T103000
DTEND;TZID=UTC+1:20211016T200000
DTSTAMP:20260423T222937
CREATED:20211014T093619Z
LAST-MODIFIED:20211014T093619Z
UID:13467-1634380200-1634414400@nyiregyhazisc.hu
SUMMARY:U19 OIB leány röplabda forduló
DESCRIPTION:U19 OIB leány röplabda bajnoki forduló \nBudapest \n11.30 Vasas SC ‘C’ –  Nyíregyházi Sportcentrum \n19.00 Palota RSC – Nyíregyházi Sportcentrum \n
URL:https://nyiregyhazisc.hu/esemeny/u19-oib-leany-roplabda-fordulo/
END:VEVENT
END:VCALENDAR