
      
      
      
BEGIN:VCALENDAR
VERSION:2.0
PRODID:-//Nyíregyházi Sportcentrum - ECPv4.9.1.1//NONSGML v1.0//EN
CALSCALE:GREGORIAN
METHOD:PUBLISH
X-WR-CALNAME:Nyíregyházi Sportcentrum
X-ORIGINAL-URL:https://nyiregyhazisc.hu
X-WR-CALDESC:Events for Nyíregyházi Sportcentrum
BEGIN:VEVENT
DTSTART;TZID=UTC+1:20220122T100000
DTEND;TZID=UTC+1:20220122T190000
DTSTAMP:20260423T144345
CREATED:20220119T124826Z
LAST-MODIFIED:20220119T124834Z
UID:14172-1642845600-1642878000@nyiregyhazisc.hu
SUMMARY:U19 OIB II.osztály női röplabda bajnokság
DESCRIPTION:U19 OIB II.osztály női röplabda bajnokság \nHelyszín: Debrecen \n10.00 DEAC – Fatum-Nyíregyháza \n13.00 Miskolc VSC – Fatum-Nyíregyháza \n16.00 Fatum-Nyíregyháza – VRCK \n
URL:https://nyiregyhazisc.hu/esemeny/u19-oib-ii-osztaly-noi-roplabda-bajnoksag/
END:VEVENT
END:VCALENDAR