
      
      
      
BEGIN:VCALENDAR
VERSION:2.0
PRODID:-//Nyíregyházi Sportcentrum - ECPv4.9.1.1//NONSGML v1.0//EN
CALSCALE:GREGORIAN
METHOD:PUBLISH
X-WR-CALNAME:Nyíregyházi Sportcentrum
X-ORIGINAL-URL:https://nyiregyhazisc.hu
X-WR-CALDESC:Events for Nyíregyházi Sportcentrum
BEGIN:VEVENT
DTSTART;VALUE=DATE:20221008
DTEND;VALUE=DATE:20221010
DTSTAMP:20260422T220109
CREATED:20221006T072230Z
LAST-MODIFIED:20221006T072230Z
UID:16510-1665187200-1665359999@nyiregyhazisc.hu
SUMMARY:U18\,U16 és U14 Összetett Atlétikai Magyar Bajnokság 2022 - Debrecen
DESCRIPTION:
URL:https://nyiregyhazisc.hu/esemeny/u18u16-es-u14-osszetett-atletikai-magyar-bajnoksag-2022-debrecen/
CATEGORIES:Sportesemény
END:VEVENT
END:VCALENDAR