
      
      
      
BEGIN:VCALENDAR
VERSION:2.0
PRODID:-//Nyíregyházi Sportcentrum - ECPv4.9.1.1//NONSGML v1.0//EN
CALSCALE:GREGORIAN
METHOD:PUBLISH
X-WR-CALNAME:Nyíregyházi Sportcentrum
X-ORIGINAL-URL:https://nyiregyhazisc.hu
X-WR-CALDESC:Events for Nyíregyházi Sportcentrum
BEGIN:VEVENT
DTSTART;TZID=UTC+1:20231105T130000
DTEND;TZID=UTC+1:20231105T190000
DTSTAMP:20260422T021244
CREATED:20231027T124608Z
LAST-MODIFIED:20231027T124608Z
UID:20729-1699189200-1699210800@nyiregyhazisc.hu
SUMMARY:U17 Leány Röplabda Országos Bajnokság I.oszt. Kecskemét
DESCRIPTION:Mérkőzések: \n13.00 BRSE Fehér – Nyíregyházi Sportcentrum \n15.00 Nyíregyházi Sportcentrum – KESI-RA ‘A \n
URL:https://nyiregyhazisc.hu/esemeny/u17-leany-roplabda-orszagos-bajnoksag-i-oszt-kecskemet/
CATEGORIES:Sportesemény
END:VEVENT
END:VCALENDAR