
      
      
      
BEGIN:VCALENDAR
VERSION:2.0
PRODID:-//Nyíregyházi Sportcentrum - ECPv4.9.1.1//NONSGML v1.0//EN
CALSCALE:GREGORIAN
METHOD:PUBLISH
X-WR-CALNAME:Nyíregyházi Sportcentrum
X-ORIGINAL-URL:https://nyiregyhazisc.hu
X-WR-CALDESC:Events for Nyíregyházi Sportcentrum
BEGIN:VEVENT
DTSTART;TZID=UTC+1:20230414T150000
DTEND;TZID=UTC+1:20230414T170000
DTSTAMP:20260422T143935
CREATED:20230417T083239Z
LAST-MODIFIED:20230417T083239Z
UID:18714-1681484400-1681491600@nyiregyhazisc.hu
SUMMARY:U16 fiú kézilabda bajnoki mérkőzés: Nyíregyházi Sportcentrum - Mezőkövesdi  KC
DESCRIPTION:
URL:https://nyiregyhazisc.hu/esemeny/u16-fiu-kezilabda-bajnoki-merkozes-nyiregyhazi-sportcentrum-mezokovesdi-kc/
LOCATION:Nyíregyháza
END:VEVENT
END:VCALENDAR