
      
      
      
BEGIN:VCALENDAR
VERSION:2.0
PRODID:-//Nyíregyházi Sportcentrum - ECPv4.9.1.1//NONSGML v1.0//EN
CALSCALE:GREGORIAN
METHOD:PUBLISH
X-WR-CALNAME:Nyíregyházi Sportcentrum
X-ORIGINAL-URL:https://nyiregyhazisc.hu
X-WR-CALDESC:Events for Nyíregyházi Sportcentrum
BEGIN:VEVENT
DTSTART;VALUE=DATE:20230916
DTEND;VALUE=DATE:20230918
DTSTAMP:20260422T053122
CREATED:20230907T080129Z
LAST-MODIFIED:20230907T080335Z
UID:20041-1694822400-1694995199@nyiregyhazisc.hu
SUMMARY:U16 Atlétikai Magyar Bajnokság  2023 - Pécs
DESCRIPTION:
URL:https://nyiregyhazisc.hu/esemeny/u16-atletikai-magyar-bajnoksag-2023-pecs/
CATEGORIES:Sportesemény
END:VEVENT
END:VCALENDAR