
      
      
      
BEGIN:VCALENDAR
VERSION:2.0
PRODID:-//Nyíregyházi Sportcentrum - ECPv4.9.1.1//NONSGML v1.0//EN
CALSCALE:GREGORIAN
METHOD:PUBLISH
X-WR-CALNAME:Nyíregyházi Sportcentrum
X-ORIGINAL-URL:https://nyiregyhazisc.hu
X-WR-CALDESC:Events for Nyíregyházi Sportcentrum
BEGIN:VEVENT
DTSTART;VALUE=DATE:20220909
DTEND;VALUE=DATE:20220911
DTSTAMP:20260422T232452
CREATED:20220908T123442Z
LAST-MODIFIED:20220908T123442Z
UID:16292-1662681600-1662854399@nyiregyhazisc.hu
SUMMARY:U16 Atlétikai Magyar Bajnokság 2022 Győr
DESCRIPTION:
URL:https://nyiregyhazisc.hu/esemeny/u16-atletikai-magyar-bajnoksag-2022-gyor/
CATEGORIES:Sportesemény
END:VEVENT
END:VCALENDAR