
      
      
      
BEGIN:VCALENDAR
VERSION:2.0
PRODID:-//Nyíregyházi Sportcentrum - ECPv4.9.1.1//NONSGML v1.0//EN
CALSCALE:GREGORIAN
METHOD:PUBLISH
X-WR-CALNAME:Nyíregyházi Sportcentrum
X-ORIGINAL-URL:https://nyiregyhazisc.hu
X-WR-CALDESC:Events for Nyíregyházi Sportcentrum
BEGIN:VEVENT
DTSTART;TZID=UTC+1:20231014T123000
DTEND;TZID=UTC+1:20231014T170000
DTSTAMP:20260422T065414
CREATED:20231010T072848Z
LAST-MODIFIED:20231010T072848Z
UID:20568-1697286600-1697302800@nyiregyhazisc.hu
SUMMARY:U15 OB IV. Észak-Magyarország 'A' alapszakasz leány röplabda bajnokság - Hajdúböszörmény
DESCRIPTION:Mérkőzések: \n12.30 Eötvös DSE-B – Nyíregyházi Sportcentrum – Fehér \n14.00 Hajdúböszörményi TE – Nyíregyházi Sportcentrum – Fehér \n
URL:https://nyiregyhazisc.hu/esemeny/u15-ob-iv-eszak-magyarorszag-a-alapszakasz-leany-roplabda-bajnoksag-hajduboszormeny/
CATEGORIES:Sportesemény
END:VEVENT
END:VCALENDAR