
      
      
      
BEGIN:VCALENDAR
VERSION:2.0
PRODID:-//Nyíregyházi Sportcentrum - ECPv4.9.1.1//NONSGML v1.0//EN
CALSCALE:GREGORIAN
METHOD:PUBLISH
X-WR-CALNAME:Nyíregyházi Sportcentrum
X-ORIGINAL-URL:https://nyiregyhazisc.hu
X-WR-CALDESC:Events for Nyíregyházi Sportcentrum
BEGIN:VEVENT
DTSTART;TZID=UTC+1:20231014T100000
DTEND;TZID=UTC+1:20231014T170000
DTSTAMP:20260422T035957
CREATED:20231010T072456Z
LAST-MODIFIED:20231010T072456Z
UID:20564-1697277600-1697302800@nyiregyhazisc.hu
SUMMARY:U15 OB I. leány röplabda bajnokság - Budapest
DESCRIPTION:Mérkőzések: \n13.00 Szosi’A – Nyíregyházi Sportcentrum \n15.00 Nyíregyházi Sportcentrum – UTE U 15 Lila \n
URL:https://nyiregyhazisc.hu/esemeny/u15-ob-i-leany-roplabda-bajnoksag-budapest/
CATEGORIES:Sportesemény
END:VEVENT
END:VCALENDAR