
      
      
      
BEGIN:VCALENDAR
VERSION:2.0
PRODID:-//Nyíregyházi Sportcentrum - ECPv4.9.1.1//NONSGML v1.0//EN
CALSCALE:GREGORIAN
METHOD:PUBLISH
X-WR-CALNAME:Nyíregyházi Sportcentrum
X-ORIGINAL-URL:https://nyiregyhazisc.hu
X-WR-CALDESC:Events for Nyíregyházi Sportcentrum
BEGIN:VEVENT
DTSTART;TZID=UTC+1:20231015T090000
DTEND;TZID=UTC+1:20231015T143000
DTSTAMP:20260422T040042
CREATED:20231010T074426Z
LAST-MODIFIED:20231010T074426Z
UID:20578-1697360400-1697380200@nyiregyhazisc.hu
SUMMARY:U15 fiú kézilabda bajnoki forduló - Nyírpazony
DESCRIPTION:Mérkőzések: \n9.00 SZIKE Nyíregyháza- Nyíregyházi Sportcentrum \n11.20 Nyíregyházi Sportcentrum – Kisvárdai KC \n
URL:https://nyiregyhazisc.hu/esemeny/u15-fiu-kezilabda-bajnoki-fordulo-nyirpazony-2/
CATEGORIES:Sportesemény
END:VEVENT
END:VCALENDAR