
      
      
      
BEGIN:VCALENDAR
VERSION:2.0
PRODID:-//Nyíregyházi Sportcentrum - ECPv4.9.1.1//NONSGML v1.0//EN
CALSCALE:GREGORIAN
METHOD:PUBLISH
X-WR-CALNAME:Nyíregyházi Sportcentrum
X-ORIGINAL-URL:https://nyiregyhazisc.hu
X-WR-CALDESC:Events for Nyíregyházi Sportcentrum
BEGIN:VEVENT
DTSTART;TZID=UTC+1:20230416T090000
DTEND;TZID=UTC+1:20230416T110000
DTSTAMP:20260422T181156
CREATED:20230417T083522Z
LAST-MODIFIED:20230417T083522Z
UID:18719-1681635600-1681642800@nyiregyhazisc.hu
SUMMARY:U13 fiú kézilabda bajnoki mérkőzés: Hajdúnánási FKK - Nyíregyházi Sportcentrum
DESCRIPTION:
URL:https://nyiregyhazisc.hu/esemeny/u13-fiu-kezilabda-bajnoki-merkozes-hajdunanasi-fkk-nyiregyhazi-sportcentrum/
LOCATION:Hajdúnánás
END:VEVENT
END:VCALENDAR