
      
      
      
BEGIN:VCALENDAR
VERSION:2.0
PRODID:-//Nyíregyházi Sportcentrum - ECPv4.9.1.1//NONSGML v1.0//EN
CALSCALE:GREGORIAN
METHOD:PUBLISH
X-WR-CALNAME:Nyíregyházi Sportcentrum
X-ORIGINAL-URL:https://nyiregyhazisc.hu
X-WR-CALDESC:Events for Nyíregyházi Sportcentrum
BEGIN:VEVENT
DTSTART;TZID=UTC+1:20230506T123000
DTEND;TZID=UTC+1:20230506T170000
DTSTAMP:20260422T111700
CREATED:20230504T093123Z
LAST-MODIFIED:20230504T093123Z
UID:19069-1683376200-1683392400@nyiregyhazisc.hu
SUMMARY:U12 Országos Kismini Bajnokság I.o. középszakasz  Érd
DESCRIPTION:Mérkőzések: \n12.30 óra SZOSI  ‘A’ – Nyíregyházi Sportcentrum \n14.00 óra DELTA Röplabda SE – Nyíregyházi Sportcentrum \n
URL:https://nyiregyhazisc.hu/esemeny/u12-orszagos-kismini-bajnoksag-i-o-kozepszakasz-erd/
CATEGORIES:Sportesemény
END:VEVENT
END:VCALENDAR