
      
      
      
BEGIN:VCALENDAR
VERSION:2.0
PRODID:-//Nyíregyházi Sportcentrum - ECPv4.9.1.1//NONSGML v1.0//EN
CALSCALE:GREGORIAN
METHOD:PUBLISH
X-WR-CALNAME:Nyíregyházi Sportcentrum
X-ORIGINAL-URL:https://nyiregyhazisc.hu
X-WR-CALDESC:Events for Nyíregyházi Sportcentrum
BEGIN:VEVENT
DTSTART;TZID=UTC+1:20230401T095500
DTEND;TZID=UTC+1:20230401T160000
DTSTAMP:20260422T125634
CREATED:20230331T110000Z
LAST-MODIFIED:20230331T110000Z
UID:18594-1680342900-1680364800@nyiregyhazisc.hu
SUMMARY:U12 kézilabda fiú bajnoki mérkőzések -Tiszavasvári
DESCRIPTION:Mérkőzések: \n9:55 Nyíregyházi Sportcentrum – Dombrádi Mobil DSE \n13.35 DVTK – Nyíregyházi Sportcentrum \n
URL:https://nyiregyhazisc.hu/esemeny/u12-kezilabda-fiu-bajnoki-merkozesek-tiszavasvari/
CATEGORIES:Sportesemény
END:VEVENT
END:VCALENDAR