
      
      
      
BEGIN:VCALENDAR
VERSION:2.0
PRODID:-//Nyíregyházi Sportcentrum - ECPv4.9.1.1//NONSGML v1.0//EN
CALSCALE:GREGORIAN
METHOD:PUBLISH
X-WR-CALNAME:Nyíregyházi Sportcentrum
X-ORIGINAL-URL:https://nyiregyhazisc.hu
X-WR-CALDESC:Events for Nyíregyházi Sportcentrum
BEGIN:VEVENT
DTSTART;TZID=UTC+1:20230129T110000
DTEND;TZID=UTC+1:20230129T170000
DTSTAMP:20260422T174533
CREATED:20230124T080604Z
LAST-MODIFIED:20230124T080604Z
UID:17669-1674990000-1675011600@nyiregyhazisc.hu
SUMMARY:Torma Ágnes U20 Országos Röplabda Bajnokság I. osztály - Középszakasz - Nyíregyháza
DESCRIPTION:Mérkőzések: \n11.00 Nyíregyházi Sportcentrum – UTE U20 Lila \n15.00 Nyíregyházi Sportcentrum – BDSE-Emericus \n
URL:https://nyiregyhazisc.hu/esemeny/torma-agnes-u20-orszagos-roplabda-bajnoksag-i-osztaly-kozepszakasz-nyiregyhaza/
CATEGORIES:Sportesemény
END:VEVENT
END:VCALENDAR