
      
      
      
BEGIN:VCALENDAR
VERSION:2.0
PRODID:-//Nyíregyházi Sportcentrum - ECPv4.9.1.1//NONSGML v1.0//EN
CALSCALE:GREGORIAN
METHOD:PUBLISH
X-WR-CALNAME:Nyíregyházi Sportcentrum
X-ORIGINAL-URL:https://nyiregyhazisc.hu
X-WR-CALDESC:Events for Nyíregyházi Sportcentrum
BEGIN:VEVENT
DTSTART;TZID=UTC+1:20231029T110000
DTEND;TZID=UTC+1:20231029T170000
DTSTAMP:20260422T040624
CREATED:20231019T125456Z
LAST-MODIFIED:20231019T125456Z
UID:20664-1698577200-1698598800@nyiregyhazisc.hu
SUMMARY:Torma Ágnes U20 Országos Bajnokság - leány röplabda - II. o. Kelet alapszakasz  - Nyíregyháza
DESCRIPTION:Mérkőzések: \nMérkőzések: \n11.00 Fatum Nyíregyháza – DVTK \n15.00 HÉP-KRC Röpke – Fatum Nyíregyháza \n
URL:https://nyiregyhazisc.hu/esemeny/torma-agnes-u20-orszagos-bajnoksag-leany-roplabda-ii-o-kelet-alapszakasz-nyiregyhaza/
CATEGORIES:Sportesemény
END:VEVENT
END:VCALENDAR