
      
      
      
BEGIN:VCALENDAR
VERSION:2.0
PRODID:-//Nyíregyházi Sportcentrum - ECPv4.9.1.1//NONSGML v1.0//EN
CALSCALE:GREGORIAN
METHOD:PUBLISH
X-WR-CALNAME:Nyíregyházi Sportcentrum
X-ORIGINAL-URL:https://nyiregyhazisc.hu
X-WR-CALDESC:Events for Nyíregyházi Sportcentrum
BEGIN:VEVENT
DTSTART;VALUE=DATE:20230520
DTEND;VALUE=DATE:20230521
DTSTAMP:20260422T112126
CREATED:20230519T131307Z
LAST-MODIFIED:20230519T131307Z
UID:19153-1684540800-1684627199@nyiregyhazisc.hu
SUMMARY:Torma Ágnes U20 Országos Bajnokság I.osztály 7-9. helyért - Szeged
DESCRIPTION:Mérkőzések: \n13.00 Vasas SC U20 – Nyíregyházi Sportcentrum \n15.00 Szegedi RSE- Nyíregyházi Sportcentrum \n
URL:https://nyiregyhazisc.hu/esemeny/torma-agnes-u20-orszagos-bajnoksag-i-osztaly-7-9-helyert-szeged/
CATEGORIES:Sportesemény
END:VEVENT
END:VCALENDAR