
      
      
      
BEGIN:VCALENDAR
VERSION:2.0
PRODID:-//Nyíregyházi Sportcentrum - ECPv4.9.1.1//NONSGML v1.0//EN
CALSCALE:GREGORIAN
METHOD:PUBLISH
X-WR-CALNAME:Nyíregyházi Sportcentrum
X-ORIGINAL-URL:https://nyiregyhazisc.hu
X-WR-CALDESC:Events for Nyíregyházi Sportcentrum
BEGIN:VEVENT
DTSTART;TZID=UTC+1:20230415T150000
DTEND;TZID=UTC+1:20230415T170000
DTSTAMP:20260422T191321
CREATED:20230417T084106Z
LAST-MODIFIED:20230417T084106Z
UID:18732-1681570800-1681578000@nyiregyhazisc.hu
SUMMARY:Torma Ágnes U20 OB röplabda bajnoki mérkőzés III.osztály: Fatum Nyíregyháza - DEAC
DESCRIPTION:
URL:https://nyiregyhazisc.hu/esemeny/torma-agnes-u20-ob-roplabda-bajnoki-merkozes-iii-osztaly-fatum-nyiregyhaza-deac/
LOCATION:Nyíregyháza
END:VEVENT
END:VCALENDAR