
      
      
      
BEGIN:VCALENDAR
VERSION:2.0
PRODID:-//Nyíregyházi Sportcentrum - ECPv4.9.1.1//NONSGML v1.0//EN
CALSCALE:GREGORIAN
METHOD:PUBLISH
X-WR-CALNAME:Nyíregyházi Sportcentrum
X-ORIGINAL-URL:https://nyiregyhazisc.hu
X-WR-CALDESC:Events for Nyíregyházi Sportcentrum
BEGIN:VEVENT
DTSTART;TZID=UTC+1:20230415T130000
DTEND;TZID=UTC+1:20230415T150000
DTSTAMP:20260422T204656
CREATED:20230417T083726Z
LAST-MODIFIED:20230417T083726Z
UID:18724-1681563600-1681570800@nyiregyhazisc.hu
SUMMARY:Torma Ágnes U20 OB röplabda bajnoki mérkőzés I.osztály: BDSE-Emericus - Nyíregyházi Sportcentrum
DESCRIPTION:
URL:https://nyiregyhazisc.hu/esemeny/torma-agnes-u20-ob-roplabda-bajnoki-merkozes-i-osztaly-bdse-emericus-nyiregyhazi-sportcentrum/
LOCATION:Budapest
END:VEVENT
END:VCALENDAR