
      
      
      
BEGIN:VCALENDAR
VERSION:2.0
PRODID:-//Nyíregyházi Sportcentrum - ECPv4.9.1.1//NONSGML v1.0//EN
CALSCALE:GREGORIAN
METHOD:PUBLISH
X-WR-CALNAME:Nyíregyházi Sportcentrum
X-ORIGINAL-URL:https://nyiregyhazisc.hu
X-WR-CALDESC:Events for Nyíregyházi Sportcentrum
BEGIN:VEVENT
DTSTART;TZID=UTC+1:20231125T130000
DTEND;TZID=UTC+1:20231125T170000
DTSTAMP:20260422T040225
CREATED:20231121T090455Z
LAST-MODIFIED:20231121T090455Z
UID:20885-1700917200-1700931600@nyiregyhazisc.hu
SUMMARY:Torma Ágnes U20 lány röplabda bajnokság - I.osztály- Budaörs
DESCRIPTION:Mérkőzések: \n13.00 SZBRA  I. – Nyíregyházi Sportcentrum \n15.00 Nyíregyházi Sportcentrum – Budaörsi DSE -Emericus SE \n
URL:https://nyiregyhazisc.hu/esemeny/torma-agnes-u20-lany-roplabda-bajnoksag-i-osztaly-budaors/
CATEGORIES:Sportesemény
END:VEVENT
END:VCALENDAR