
      
      
      
BEGIN:VCALENDAR
VERSION:2.0
PRODID:-//Nyíregyházi Sportcentrum - ECPv4.9.1.1//NONSGML v1.0//EN
CALSCALE:GREGORIAN
METHOD:PUBLISH
X-WR-CALNAME:Nyíregyházi Sportcentrum
X-ORIGINAL-URL:https://nyiregyhazisc.hu
X-WR-CALDESC:Events for Nyíregyházi Sportcentrum
BEGIN:VEVENT
DTSTART;TZID=UTC+1:20220409T123000
DTEND;TZID=UTC+1:20220409T170000
DTSTAMP:20260423T091847
CREATED:20220407T131638Z
LAST-MODIFIED:20220407T131638Z
UID:15073-1649507400-1649523600@nyiregyhazisc.hu
SUMMARY:Torma Ágnes U19 OIB II.osztály  Kelet 4-6.helyért röplabda mérkőzés
DESCRIPTION:Torma Ágnes U19 OIB II.osztály Kelet 4-6.helyért röplabda mérkőzés \nHelyszín: Budapest \nMérkőzések: \n12.30 óra Eötvös DSE – Fatum-Nyíregyháza \n14.00 Közgáz Ifi ‘B’ – Fatum-Nyíregyháza \n
URL:https://nyiregyhazisc.hu/esemeny/torma-agnes-u19-oib-ii-osztaly-kelet-4-6-helyert-roplabda-merkozes/
CATEGORIES:Sportesemény
END:VEVENT
END:VCALENDAR