
      
      
      
BEGIN:VCALENDAR
VERSION:2.0
PRODID:-//Nyíregyházi Sportcentrum - ECPv4.9.1.1//NONSGML v1.0//EN
CALSCALE:GREGORIAN
METHOD:PUBLISH
X-WR-CALNAME:Nyíregyházi Sportcentrum
X-ORIGINAL-URL:https://nyiregyhazisc.hu
X-WR-CALDESC:Events for Nyíregyházi Sportcentrum
BEGIN:VEVENT
DTSTART;TZID=UTC+1:20220122T113000
DTEND;TZID=UTC+1:20220122T190000
DTSTAMP:20260423T124741
CREATED:20220119T124038Z
LAST-MODIFIED:20220119T124101Z
UID:14169-1642851000-1642878000@nyiregyhazisc.hu
SUMMARY:Torma Ágnes U19 OIB I.osztály
DESCRIPTION:Torma Ágnes U19 OIB I.osztály leány röplabda bajnokság \nHelyszín: Budaörs \n11.30  Nyíregyházi Sportcentrum – KESI\n14.30  Nyíregyházi Sportcentrum – Emericus -BDSE ‘A’ \n16.00 TRSE – Nyíregyházi Sportcentrum \n  \n
URL:https://nyiregyhazisc.hu/esemeny/torma-agnes-u19-oib-i-osztaly/
CATEGORIES:Sportesemény
END:VEVENT
END:VCALENDAR