
      
      
      
BEGIN:VCALENDAR
VERSION:2.0
PRODID:-//Nyíregyházi Sportcentrum - ECPv4.9.1.1//NONSGML v1.0//EN
CALSCALE:GREGORIAN
METHOD:PUBLISH
X-WR-CALNAME:Nyíregyházi Sportcentrum
X-ORIGINAL-URL:https://nyiregyhazisc.hu
X-WR-CALDESC:Events for Nyíregyházi Sportcentrum
BEGIN:VEVENT
DTSTART;TZID=UTC+1:20220212T113000
DTEND;TZID=UTC+1:20220212T190000
DTSTAMP:20260423T111537
CREATED:20220106T094818Z
LAST-MODIFIED:20220106T094832Z
UID:14093-1644665400-1644692400@nyiregyhazisc.hu
SUMMARY:Torma Ágnes U19 OIB I. osztály röplabda mérkőzés
DESCRIPTION:Torma Ágnes U19 OIB I.osztály női röplabda mérkőzés \nHelyszín: Kecskemét \nIdőpont:  2022. 02.12. \nMérkőzések: \n11.30 Nyíregyházi Sportcentrum – TRSE \n16.00 Emericus-BDSE ‘A’ – Nyíregyházi Sportcentrum \n
URL:https://nyiregyhazisc.hu/esemeny/torma-agnes-u19-oib-i-osztaly-roplabda-merkozes/
CATEGORIES:Sportesemény
END:VEVENT
END:VCALENDAR