
      
      
      
BEGIN:VCALENDAR
VERSION:2.0
PRODID:-//Nyíregyházi Sportcentrum - ECPv4.9.1.1//NONSGML v1.0//EN
CALSCALE:GREGORIAN
METHOD:PUBLISH
X-WR-CALNAME:Nyíregyházi Sportcentrum
X-ORIGINAL-URL:https://nyiregyhazisc.hu
X-WR-CALDESC:Events for Nyíregyházi Sportcentrum
BEGIN:VEVENT
DTSTART;TZID=UTC+1:20211016T110000
DTEND;TZID=UTC+1:20211016T160000
DTSTAMP:20260423T223436
CREATED:20211014T095538Z
LAST-MODIFIED:20211014T095538Z
UID:13471-1634382000-1634400000@nyiregyhazisc.hu
SUMMARY:Torma Ágnes OIB U19 II. osztály leány röplabda bajnoki forduló
DESCRIPTION:Torma Ágnes OIB U19 II. osztály leány röplabda bajnoki forduló \nNyíregyháza\, Bem József Általános Iskola \n11:00 Fatum-Nyíregyháza – SBTC \n14:00 Fatum-Nyíregyháza – UTE U19 B \n
URL:https://nyiregyhazisc.hu/esemeny/torma-agnes-oib-u19-ii-osztaly-leany-roplabda-bajnoki-fordulo/
END:VEVENT
END:VCALENDAR