
      
      
      
BEGIN:VCALENDAR
VERSION:2.0
PRODID:-//Nyíregyházi Sportcentrum - ECPv4.9.1.1//NONSGML v1.0//EN
CALSCALE:GREGORIAN
METHOD:PUBLISH
X-WR-CALNAME:Nyíregyházi Sportcentrum
X-ORIGINAL-URL:https://nyiregyhazisc.hu
X-WR-CALDESC:Events for Nyíregyházi Sportcentrum
BEGIN:VEVENT
DTSTART;TZID=UTC+1:20231125T120000
DTEND;TZID=UTC+1:20231125T180000
DTSTAMP:20260422T021221
CREATED:20231121T090732Z
LAST-MODIFIED:20231121T090732Z
UID:20887-1700913600-1700935200@nyiregyhazisc.hu
SUMMARY:Torma Ágnes női röplabda bajnokság - II.osztály - Budapest
DESCRIPTION:Mérkőzések: \n12.00 Szolnoki SPC – Fatum Nyíregyháza \n14.00 Fatum Nyíregyháza – BVSC Zugló Kék \n
URL:https://nyiregyhazisc.hu/esemeny/torma-agnes-noi-roplabda-bajnoksag-ii-osztaly-budapest/
CATEGORIES:Sportesemény
END:VEVENT
END:VCALENDAR