
      
      
      
BEGIN:VCALENDAR
VERSION:2.0
PRODID:-//Nyíregyházi Sportcentrum - ECPv4.9.1.1//NONSGML v1.0//EN
CALSCALE:GREGORIAN
METHOD:PUBLISH
X-WR-CALNAME:Nyíregyházi Sportcentrum
X-ORIGINAL-URL:https://nyiregyhazisc.hu
X-WR-CALDESC:Events for Nyíregyházi Sportcentrum
BEGIN:VEVENT
DTSTART;TZID=UTC+1:20221019T143000
DTEND;TZID=UTC+1:20221019T170000
DTSTAMP:20260422T220243
CREATED:20221013T115828Z
LAST-MODIFIED:20221013T115828Z
UID:16537-1666189800-1666198800@nyiregyhazisc.hu
SUMMARY:Tisza Volán SC - Nyíregyházi Sportcentrum U16 fiú kézilabda mérkőzés
DESCRIPTION:
URL:https://nyiregyhazisc.hu/esemeny/tisza-volan-sc-nyiregyhazi-sportcentrum-u16-fiu-kezilabda-merkozes/
CATEGORIES:Sportesemény
END:VEVENT
END:VCALENDAR