
      
      
      
BEGIN:VCALENDAR
VERSION:2.0
PRODID:-//Nyíregyházi Sportcentrum - ECPv4.9.1.1//NONSGML v1.0//EN
CALSCALE:GREGORIAN
METHOD:PUBLISH
X-WR-CALNAME:Nyíregyházi Sportcentrum
X-ORIGINAL-URL:https://nyiregyhazisc.hu
X-WR-CALDESC:Events for Nyíregyházi Sportcentrum
BEGIN:VEVENT
DTSTART;VALUE=DATE:20220312
DTEND;VALUE=DATE:20220315
DTSTAMP:20260423T105925
CREATED:20220104T133548Z
LAST-MODIFIED:20220104T133557Z
UID:14078-1647043200-1647302399@nyiregyhazisc.hu
SUMMARY:Tavaszi Spari Kupa Tájfutó Verseny  Sukoró
DESCRIPTION:
URL:https://nyiregyhazisc.hu/esemeny/tavaszi-spari-kupa-tajfuto-verseny-sukoro/
END:VEVENT
END:VCALENDAR