
      
      
      
BEGIN:VCALENDAR
VERSION:2.0
PRODID:-//Nyíregyházi Sportcentrum - ECPv4.9.1.1//NONSGML v1.0//EN
CALSCALE:GREGORIAN
METHOD:PUBLISH
X-WR-CALNAME:Nyíregyházi Sportcentrum
X-ORIGINAL-URL:https://nyiregyhazisc.hu
X-WR-CALDESC:Events for Nyíregyházi Sportcentrum
BEGIN:VEVENT
DTSTART;VALUE=DATE:20220327
DTEND;VALUE=DATE:20220328
DTSTAMP:20260423T092547
CREATED:20220104T133836Z
LAST-MODIFIED:20220104T133836Z
UID:14081-1648339200-1648425599@nyiregyhazisc.hu
SUMMARY:Tájfutó Csapatbajnokság Gödöllő
DESCRIPTION:
URL:https://nyiregyhazisc.hu/esemeny/tajfuto-csapatbajnoksag-godollo/
END:VEVENT
END:VCALENDAR