
      
      
      
BEGIN:VCALENDAR
VERSION:2.0
PRODID:-//Nyíregyházi Sportcentrum - ECPv4.9.1.1//NONSGML v1.0//EN
CALSCALE:GREGORIAN
METHOD:PUBLISH
X-WR-CALNAME:Nyíregyházi Sportcentrum
X-ORIGINAL-URL:https://nyiregyhazisc.hu
X-WR-CALDESC:Events for Nyíregyházi Sportcentrum
BEGIN:VEVENT
DTSTART;VALUE=DATE:20220115
DTEND;VALUE=DATE:20220117
DTSTAMP:20260423T130742
CREATED:20220104T110802Z
LAST-MODIFIED:20220104T131130Z
UID:14072-1642204800-1642377599@nyiregyhazisc.hu
SUMMARY:Országos Kadét Vívó Bajnokság Budapest
DESCRIPTION:
URL:https://nyiregyhazisc.hu/esemeny/szedeak-a-nyiregyhazi-sportcentrum-junior-kosarlabda-merkozes-szeged/
CATEGORIES:Sportesemény
END:VEVENT
END:VCALENDAR