
      
      
      
BEGIN:VCALENDAR
VERSION:2.0
PRODID:-//Nyíregyházi Sportcentrum - ECPv4.9.1.1//NONSGML v1.0//EN
CALSCALE:GREGORIAN
METHOD:PUBLISH
X-WR-CALNAME:Nyíregyházi Sportcentrum
X-ORIGINAL-URL:https://nyiregyhazisc.hu
X-WR-CALDESC:Events for Nyíregyházi Sportcentrum
BEGIN:VEVENT
DTSTART;TZID=UTC+1:20221015T110000
DTEND;TZID=UTC+1:20221015T170000
DTSTAMP:20260422T215711
CREATED:20221012T084159Z
LAST-MODIFIED:20221012T084159Z
UID:16524-1665831600-1665853200@nyiregyhazisc.hu
SUMMARY:Szalayné Sebők Éva U17 Röplabda OSB
DESCRIPTION:Mérkőzések: /Nyíregyháza/ \n11.00  Nyíregyházi Sportcentrum – UTE U17 Lila \n15.00 Nyíregyházi Sportcentrum – BVSC-Zugló \n  \n
URL:https://nyiregyhazisc.hu/esemeny/szalayne-sebok-eva-u17-roplabda-osb/
CATEGORIES:Sportesemény
END:VEVENT
END:VCALENDAR