
      
      
      
BEGIN:VCALENDAR
VERSION:2.0
PRODID:-//Nyíregyházi Sportcentrum - ECPv4.9.1.1//NONSGML v1.0//EN
CALSCALE:GREGORIAN
METHOD:PUBLISH
X-WR-CALNAME:Nyíregyházi Sportcentrum
X-ORIGINAL-URL:https://nyiregyhazisc.hu
X-WR-CALDESC:Events for Nyíregyházi Sportcentrum
BEGIN:VEVENT
DTSTART;TZID=UTC+1:20220205T130000
DTEND;TZID=UTC+1:20220205T170000
DTSTAMP:20260423T105814
CREATED:20220106T094412Z
LAST-MODIFIED:20220106T094412Z
UID:14091-1644066000-1644080400@nyiregyhazisc.hu
SUMMARY:Szalayné Sebők Éva U17 OSB röplabda mérkőzés
DESCRIPTION:Szalayné Sebők Éva U17 OSB I. osztály női röplabda bajnoki mérkőzés \nHelyszín: Budapest \nIdőpont: 2022. 02.05. \n13.00 BVSC-Zugló – Nyíregyházi Sportcentrum \n
URL:https://nyiregyhazisc.hu/esemeny/szalayne-sebok-eva-u17-osb-roplabda-merkozes/
CATEGORIES:Sportesemény
END:VEVENT
END:VCALENDAR