
      
      
      
BEGIN:VCALENDAR
VERSION:2.0
PRODID:-//Nyíregyházi Sportcentrum - ECPv4.9.1.1//NONSGML v1.0//EN
CALSCALE:GREGORIAN
METHOD:PUBLISH
X-WR-CALNAME:Nyíregyházi Sportcentrum
X-ORIGINAL-URL:https://nyiregyhazisc.hu
X-WR-CALDESC:Events for Nyíregyházi Sportcentrum
BEGIN:VEVENT
DTSTART;TZID=UTC+1:20220515T103000
DTEND;TZID=UTC+1:20220515T170000
DTSTAMP:20260423T045443
CREATED:20220512T123331Z
LAST-MODIFIED:20220512T123331Z
UID:15352-1652610600-1652634000@nyiregyhazisc.hu
SUMMARY:Szalayné Sebők Éva U17 OSB röplabda mérkőzés I.osztály  7-9. helyért
DESCRIPTION:Helyszín: Budapest \nMérkőzések: \n11.30 MTK Budapest – Nyíregyházi Sportcentrum \nKSE Serdülő Sárga – Nyíregyházi Sportcentrum \n
URL:https://nyiregyhazisc.hu/esemeny/szalayne-sebok-eva-u17-osb-roplabda-merkozes-i-osztaly-7-9-helyert/
CATEGORIES:Sportesemény
END:VEVENT
END:VCALENDAR