
      
      
      
BEGIN:VCALENDAR
VERSION:2.0
PRODID:-//Nyíregyházi Sportcentrum - ECPv4.9.1.1//NONSGML v1.0//EN
CALSCALE:GREGORIAN
METHOD:PUBLISH
X-WR-CALNAME:Nyíregyházi Sportcentrum
X-ORIGINAL-URL:https://nyiregyhazisc.hu
X-WR-CALDESC:Events for Nyíregyházi Sportcentrum
BEGIN:VEVENT
DTSTART;TZID=UTC+1:20220226T110000
DTEND;TZID=UTC+1:20220226T163000
DTSTAMP:20260423T110247
CREATED:20220209T131106Z
LAST-MODIFIED:20220209T131106Z
UID:14463-1645873200-1645893000@nyiregyhazisc.hu
SUMMARY:Szalayné Sebők Éva U17 OSB I.osztály röplabda mérkőzés
DESCRIPTION:Szalayné Sebők Éva U17 OSB I.osztály röplabda mérkőzés \nHelyszín: Szeged \nIdőpont: \n2022. február 26. \n11.00 RÖAK ‘A’ Kaposvár – Nyíregyházi Sportcentrum \n12.30 Nyíregyházi Sportcentrum – Szegedi RSE Narancs \n
URL:https://nyiregyhazisc.hu/esemeny/szalayne-sebok-eva-u17-osb-i-osztaly-roplabda-merkozes/
CATEGORIES:Sportesemény
END:VEVENT
END:VCALENDAR