
      
      
      
BEGIN:VCALENDAR
VERSION:2.0
PRODID:-//Nyíregyházi Sportcentrum - ECPv4.9.1.1//NONSGML v1.0//EN
CALSCALE:GREGORIAN
METHOD:PUBLISH
X-WR-CALNAME:Nyíregyházi Sportcentrum
X-ORIGINAL-URL:https://nyiregyhazisc.hu
X-WR-CALDESC:Events for Nyíregyházi Sportcentrum
BEGIN:VEVENT
DTSTART;TZID=UTC+1:20190908T080000
DTEND;TZID=UTC+1:20190908T170000
DTSTAMP:20260424T085128
CREATED:20190904T081850Z
LAST-MODIFIED:20190904T123250Z
UID:8685-1567929600-1567962000@nyiregyhazisc.hu
SUMMARY:Streetball Fesztivál
DESCRIPTION:
URL:https://nyiregyhazisc.hu/esemeny/streetball-fesztival/
CATEGORIES:Egyéb
ATTACH;FMTTYPE=image/jpeg:https://nyiregyhazisc.hu/wp-content/uploads/2019/09/street-1-e1567600354419.jpg
END:VEVENT
END:VCALENDAR