
      
      
      
BEGIN:VCALENDAR
VERSION:2.0
PRODID:-//Nyíregyházi Sportcentrum - ECPv4.9.1.1//NONSGML v1.0//EN
CALSCALE:GREGORIAN
METHOD:PUBLISH
X-WR-CALNAME:Nyíregyházi Sportcentrum
X-ORIGINAL-URL:https://nyiregyhazisc.hu
X-WR-CALDESC:Events for Nyíregyházi Sportcentrum
BEGIN:VEVENT
DTSTART;TZID=UTC+1:20220515T120000
DTEND;TZID=UTC+1:20220515T140000
DTSTAMP:20260423T075648
CREATED:20220222T124838Z
LAST-MODIFIED:20220222T124838Z
UID:14640-1652616000-1652623200@nyiregyhazisc.hu
SUMMARY:Salgótarjáni SKC - Nyíregyházi Sportcentrum leány serdülő kézilabda mérkőzés
DESCRIPTION:Salgótarjáni SKC – Nyíregyházi Sportcentrum leány serdülő kézilabda mérkőzés \nHelyszín: Salgótarján \nIdőpont: 2022. május 15. 12.00 \n
URL:https://nyiregyhazisc.hu/esemeny/salgotarjani-skc-nyiregyhazi-sportcentrum-leany-serdulo-kezilabda-merkozes/
CATEGORIES:Sportesemény
END:VEVENT
END:VCALENDAR