
      
      
      
BEGIN:VCALENDAR
VERSION:2.0
PRODID:-//Nyíregyházi Sportcentrum - ECPv4.9.1.1//NONSGML v1.0//EN
CALSCALE:GREGORIAN
METHOD:PUBLISH
X-WR-CALNAME:Nyíregyházi Sportcentrum
X-ORIGINAL-URL:https://nyiregyhazisc.hu
X-WR-CALDESC:Events for Nyíregyházi Sportcentrum
BEGIN:VEVENT
DTSTART;TZID=UTC+1:20220917T080000
DTEND;TZID=UTC+1:20220918T170000
DTSTAMP:20260423T010313
CREATED:20220916T081023Z
LAST-MODIFIED:20220916T081023Z
UID:16315-1663401600-1663520400@nyiregyhazisc.hu
SUMMARY:Rövidtávú Országos  Tájfutó Bajnokság és Országos Rövidtávú Tájfutó Váltóbajnokság  - Esztergom
DESCRIPTION:
URL:https://nyiregyhazisc.hu/esemeny/rovidtavu-orszagos-tajfuto-bajnoksag-es-orszagos-rovidtavu-tajfuto-valtobajnoksag-esztergom/
CATEGORIES:Sportesemény
END:VEVENT
END:VCALENDAR