
      
      
      
BEGIN:VCALENDAR
VERSION:2.0
PRODID:-//Nyíregyházi Sportcentrum - ECPv4.9.1.1//NONSGML v1.0//EN
CALSCALE:GREGORIAN
METHOD:PUBLISH
X-WR-CALNAME:Nyíregyházi Sportcentrum
X-ORIGINAL-URL:https://nyiregyhazisc.hu
X-WR-CALDESC:Events for Nyíregyházi Sportcentrum
BEGIN:VEVENT
DTSTART;VALUE=DATE:20220618
DTEND;VALUE=DATE:20220619
DTSTAMP:20260423T044812
CREATED:20220617T132350Z
LAST-MODIFIED:20220617T132350Z
UID:15544-1655510400-1655596799@nyiregyhazisc.hu
SUMMARY:Parafa - Kupa úszóverseny
DESCRIPTION:
URL:https://nyiregyhazisc.hu/esemeny/parafa-kupa-uszoverseny/
CATEGORIES:Sportesemény
END:VEVENT
END:VCALENDAR