
      
      
      
BEGIN:VCALENDAR
VERSION:2.0
PRODID:-//Nyíregyházi Sportcentrum - ECPv4.9.1.1//NONSGML v1.0//EN
CALSCALE:GREGORIAN
METHOD:PUBLISH
X-WR-CALNAME:Nyíregyházi Sportcentrum
X-ORIGINAL-URL:https://nyiregyhazisc.hu
X-WR-CALDESC:Events for Nyíregyházi Sportcentrum
BEGIN:VEVENT
DTSTART;TZID=UTC+1:20231004T100000
DTEND;TZID=UTC+1:20231005T160000
DTSTAMP:20260422T040625
CREATED:20231003T114435Z
LAST-MODIFIED:20231003T114435Z
UID:20479-1696413600-1696521600@nyiregyhazisc.hu
SUMMARY:Pályaválasztási Kiállítás - Nyíregyháza - Continental Aréna
DESCRIPTION: \n
URL:https://nyiregyhazisc.hu/esemeny/palyavalasztasi-kiallitas-nyiregyhaza-continental-arena/
CATEGORIES:Sportesemény
ATTACH;FMTTYPE=image/jpeg:https://nyiregyhazisc.hu/wp-content/uploads/2023/10/pályaválasztási-kiállítás.jpg
END:VEVENT
END:VCALENDAR