
      
      
      
BEGIN:VCALENDAR
VERSION:2.0
PRODID:-//Nyíregyházi Sportcentrum - ECPv4.9.1.1//NONSGML v1.0//EN
CALSCALE:GREGORIAN
METHOD:PUBLISH
X-WR-CALNAME:Nyíregyházi Sportcentrum
X-ORIGINAL-URL:https://nyiregyhazisc.hu
X-WR-CALDESC:Events for Nyíregyházi Sportcentrum
BEGIN:VEVENT
DTSTART;TZID=UTC+1:20190915T080000
DTEND;TZID=UTC+1:20190915T130000
DTSTAMP:20260424T084700
CREATED:20190826T120458Z
LAST-MODIFIED:20190826T120528Z
UID:8604-1568534400-1568552400@nyiregyhazisc.hu
SUMMARY:Őszi Kelet-Magyarország Ruhabörze
DESCRIPTION:
URL:https://nyiregyhazisc.hu/esemeny/oszi-kelet-magyarorszag-ruhaborze/
ATTACH;FMTTYPE=image/jpeg:https://nyiregyhazisc.hu/wp-content/uploads/2019/08/babaruha-börze.jpg
END:VEVENT
END:VCALENDAR